Workbook

Sheet 1-2
A1: Школа возраст 7-11 лет | B1: МБОУ ЦО "с.Рыркайпий" | E1: Отд./корп | I1: День | J1: 46308
A3: Прием пищи | B3: Раздел | C3: № рец. | D3: Блюдо | E3: Выход, г | F3: Цена | G3: Калорийность | H3: Белки | I3: Жиры | J3: Углеводы
A4: Завтрак | B4: гор.блюдо | C4: 210 | D4: Омлет натуральный | E4: 150 | F4: 56.76 | G4: 154.7 | H4: 6.9 | I4: 12.3 | J4: 1.2
C5: 12 | D5: Зелёный горошек консервированный | E5: 60 | F5: 22.67 | G5: 24.75 | H5: 2.25 | I5: 0.09 | J5: 3.74
B6: гор.напиток | C6: 376 | D6: Чай с сахаром | E6: 200 | F6: 3.4 | G6: 36 | H6: 0.2 | I6: 0 | J6: 5
B7: хлеб | C7: 14 | D7: Хлеб пшеничный | E7: 40 | F7: 4 | G7: 79 | H7: 3.16 | I7: 0.8 | J7: 19.32
B8: фрукты | C8: 38 | D8: Фрукты | E8: 185 | F8: 91.57 | G8: 45 | H8: 0.4 | I8: 0.4 | J8: 9.8
C9: 41 | D9: Масло сливочное | E9: 10 | F9: 9.1 | G9: 46 | H9: 0.16 | I9: 7.2 | J9: 0.1
D10: ИТОГО: | F10: =SUM(F4:F9) -> 187.5 | G10: =SUM(G4:G9) -> 385.45 | H10: =SUM(H4:H9) -> 13.07 | I10: =SUM(I4:I9) -> 20.79 | J10: =SUM(J4:J9) -> 39.16
A11: Обед | B11: закуска | C11: 119 | D11: =[1]Лист1!E60 -> Салат из фасоли с луком | E11: 60 | F11: =[1]Лист1!L60 -> 50 | G11: =[1]Лист1!J60 -> 59.16 | H11: =[1]Лист1!G60 -> 1.74 | I11: =[1]Лист1!H60 -> 3.2 | J11: =[1]Лист1!I60 -> 3.75
B12: 1 блюдо | C12: 87 | D12: =[1]Лист1!E61 -> Суп из сайры | E12: 250 | F12: =[1]Лист1!L61 -> 85.47 | G12: =[1]Лист1!J61 -> 197.25 | H12: =[1]Лист1!G61 -> 8.61 | I12: =[1]Лист1!H61 -> 8.4 | J12: =[1]Лист1!I61 -> 14.34
B13: 2 блюдо | C13: 268 | D13: Биточки мясные | E13: 100 | F13: =[1]Лист1!L62 -> 99.77 | G13: =[1]Лист1!J62 -> 178.2 | H13: =[1]Лист1!G62 -> 9.7 | I13: =[1]Лист1!H62 -> 13.92 | J13: =[1]Лист1!I62 -> 7.89
B14: гарнир | C14: 312 | D14: =[1]Лист1!E63 -> Пюре картофельное | E14: 150 | F14: =[1]Лист1!L63 -> 17.7 | G14: =[1]Лист1!J63 -> 173.2 | H14: =[1]Лист1!G63 -> 3.05 | I14: =[1]Лист1!H63 -> 4.8 | J14: =[1]Лист1!I63 -> 20.4
B15: напиток | C15: 333 | D15: =[1]Лист1!E64 -> Компот из изюма | E15: 200 | F15: =[1]Лист1!L64 -> 8 | G15: =[1]Лист1!J64 -> 152 | H15: =[1]Лист1!G64 -> 0.6 | I15: =[1]Лист1!H64 -> 0.09 | J15: =[1]Лист1!I64 -> 32
B16: хлеб бел. | C16: 14 | D16: хлеб пшеничный | E16: 50 | F16: 4 | G16: 99 | H16: 3.95 | I16: 1 | J16: 24.15
B17: хлеб черн.
D18: ИТОГО: | F18: =SUM(F11:F17) -> 264.94 | G18: =SUM(G11:G17) -> 858.81 | H18: =SUM(H11:H17) -> 27.65 | I18: =SUM(I11:I17) -> 31.41 | J18: =SUM(J11:J17) -> 102.53
D19: ИТОГО: | F19: =SUM(F10+F18) -> 452.44 | G19: =SUM(G10+G18) -> 1244.26 | H19: =SUM(H10+H18) -> 40.72 | I19: =SUM(I10+I18) -> 52.2 | J19: =SUM(J10+J18) -> 141.69
